BEGIN:VCALENDAR
VERSION:2.0
PRODID:-//Manhattan Baptist Church - ECPv6.15.20//NONSGML v1.0//EN
CALSCALE:GREGORIAN
METHOD:PUBLISH
X-WR-CALNAME:Manhattan Baptist Church
X-ORIGINAL-URL:https://manhattanbaptistchurch.com
X-WR-CALDESC:Events for Manhattan Baptist Church
REFRESH-INTERVAL;VALUE=DURATION:PT1H
X-Robots-Tag:noindex
X-PUBLISHED-TTL:PT1H
BEGIN:VTIMEZONE
TZID:America/Chicago
BEGIN:DAYLIGHT
TZOFFSETFROM:-0600
TZOFFSETTO:-0500
TZNAME:CDT
DTSTART:20200308T080000
END:DAYLIGHT
BEGIN:STANDARD
TZOFFSETFROM:-0500
TZOFFSETTO:-0600
TZNAME:CST
DTSTART:20201101T070000
END:STANDARD
BEGIN:DAYLIGHT
TZOFFSETFROM:-0600
TZOFFSETTO:-0500
TZNAME:CDT
DTSTART:20210314T080000
END:DAYLIGHT
BEGIN:STANDARD
TZOFFSETFROM:-0500
TZOFFSETTO:-0600
TZNAME:CST
DTSTART:20211107T070000
END:STANDARD
BEGIN:DAYLIGHT
TZOFFSETFROM:-0600
TZOFFSETTO:-0500
TZNAME:CDT
DTSTART:20220313T080000
END:DAYLIGHT
BEGIN:STANDARD
TZOFFSETFROM:-0500
TZOFFSETTO:-0600
TZNAME:CST
DTSTART:20221106T070000
END:STANDARD
BEGIN:DAYLIGHT
TZOFFSETFROM:-0600
TZOFFSETTO:-0500
TZNAME:CDT
DTSTART:20230312T080000
END:DAYLIGHT
BEGIN:STANDARD
TZOFFSETFROM:-0500
TZOFFSETTO:-0600
TZNAME:CST
DTSTART:20231105T070000
END:STANDARD
END:VTIMEZONE
BEGIN:VEVENT
DTSTART;TZID=America/Chicago:20220131T093000
DTEND;TZID=America/Chicago:20220131T100000
DTSTAMP:20260423T124213
CREATED:20220125T160322Z
LAST-MODIFIED:20220125T161033Z
UID:50904-1643621400-1643623200@manhattanbaptistchurch.com
SUMMARY:Men's Prayer Time
DESCRIPTION:If you are interested in being a part of our prayer time\, we will meet every Sunday morning at 9:40 a.m. before the Sunday school hour. It is important men that we that we take our petitions to the Lord and ask for His blessings.
URL:https://manhattanbaptistchurch.com/event/mens-prayer-time/
END:VEVENT
BEGIN:VEVENT
DTSTART;TZID=America/Chicago:20211219T120000
DTEND;TZID=America/Chicago:20211219T150000
DTSTAMP:20260423T124213
CREATED:20211111T190442Z
LAST-MODIFIED:20211111T190442Z
UID:50879-1639915200-1639926000@manhattanbaptistchurch.com
SUMMARY:Christmas Dinner/Program
DESCRIPTION:We will have our Christmas dinner following the morning service. Once everything is cleaned up we will have our Christmas program with our children in the auditorium. There will be no evening service.
URL:https://manhattanbaptistchurch.com/event/christmas-dinner-program/
END:VEVENT
BEGIN:VEVENT
DTSTART;TZID=America/Chicago:20211212T160000
DTEND;TZID=America/Chicago:20211212T210000
DTSTAMP:20260423T124213
CREATED:20211124T164006Z
LAST-MODIFIED:20211124T164006Z
UID:50884-1639324800-1639342800@manhattanbaptistchurch.com
SUMMARY:Ball Brothers Concert
DESCRIPTION:For those who would like to listen to the Ball Brothers\, we will leave the church at 4:15 p.m. for Marion\, KS. We will not have our evening service.
URL:https://manhattanbaptistchurch.com/event/ball-brothers-concert/
END:VEVENT
BEGIN:VEVENT
DTSTART;VALUE=DATE:20211125
DTEND;VALUE=DATE:20211126
DTSTAMP:20260423T124213
CREATED:20211103T150047Z
LAST-MODIFIED:20211124T164111Z
UID:50875-1637798400-1637884799@manhattanbaptistchurch.com
SUMMARY:Thanksgiving
DESCRIPTION:Happy Thanksgiving! Thank you Lord for the many blessings you have shown us.
URL:https://manhattanbaptistchurch.com/event/thanksgiving/
END:VEVENT
BEGIN:VEVENT
DTSTART;TZID=America/Chicago:20211123T190000
DTEND;TZID=America/Chicago:20211123T200000
DTSTAMP:20260423T124213
CREATED:20211103T145916Z
LAST-MODIFIED:20211124T164133Z
UID:50872-1637694000-1637697600@manhattanbaptistchurch.com
SUMMARY:Midweek Service
DESCRIPTION:In lieu of Thanksgiving\, we will have our midweek service on Tuesday evening instead of Wednesday.
URL:https://manhattanbaptistchurch.com/event/midweek-service/
END:VEVENT
BEGIN:VEVENT
DTSTART;TZID=America/Chicago:20211122T170000
DTEND;TZID=America/Chicago:20211122T180000
DTSTAMP:20260423T124213
CREATED:20211103T145755Z
LAST-MODIFIED:20211103T145946Z
UID:50869-1637600400-1637604000@manhattanbaptistchurch.com
SUMMARY:Pie Fellowship
DESCRIPTION:Bring your favorite pie and enjoy the fellowship before our Sunday evening service.
URL:https://manhattanbaptistchurch.com/event/pie-fellowship/
END:VEVENT
BEGIN:VEVENT
DTSTART;TZID=America/Chicago:20211113T100000
DTEND;TZID=America/Chicago:20211113T120000
DTSTAMP:20260423T124213
CREATED:20211031T133238Z
LAST-MODIFIED:20211031T133238Z
UID:50865-1636797600-1636804800@manhattanbaptistchurch.com
SUMMARY:Door Hangers
DESCRIPTION:We will be distributing door hangers on November 13 at 10:00 a.m for those who are available.
URL:https://manhattanbaptistchurch.com/event/door-hangers-2/
END:VEVENT
BEGIN:VEVENT
DTSTART;VALUE=DATE:20211107
DTEND;VALUE=DATE:20211108
DTSTAMP:20260423T124213
CREATED:20211031T133144Z
LAST-MODIFIED:20211031T133144Z
UID:50862-1636243200-1636329599@manhattanbaptistchurch.com
SUMMARY:Daylight Savings
DESCRIPTION:Don’t forget to move your clocks back for the end of Daylight Saving on Sunday November 7.
URL:https://manhattanbaptistchurch.com/event/daylight-savings/
END:VEVENT
BEGIN:VEVENT
DTSTART;VALUE=DATE:20211031
DTEND;VALUE=DATE:20211101
DTSTAMP:20260423T124213
CREATED:20211031T133052Z
LAST-MODIFIED:20211031T133052Z
UID:50859-1635638400-1635724799@manhattanbaptistchurch.com
SUMMARY:5th Sunday
DESCRIPTION:Following the morning service we will have a chili potluck lunch followed by an afternoon service with a time of testimony and singing. There will be no evening service.
URL:https://manhattanbaptistchurch.com/event/5th-sunday/
END:VEVENT
BEGIN:VEVENT
DTSTART;TZID=America/Chicago:20211013T190000
DTEND;TZID=America/Chicago:20211017T200000
DTSTAMP:20260423T124213
CREATED:20210914T144535Z
LAST-MODIFIED:20211007T154753Z
UID:50849-1634151600-1634500800@manhattanbaptistchurch.com
SUMMARY:Missions Conference
DESCRIPTION:Wednesday- 7:00 p.m. service (Bro. Phil Russell) \nThursday- 7:00 p.m. service (Bro. Steve Childers) \nFriday- 7:00 p.m. service (Bro. Chase Rooks) \nSaturday- 8:30 a.m. breakfast; 6:30 p.m. dinner (both @ MBC) \nSunday- 10:00 a.m (Bro. Steve Childers); 11:00 a.m. (Bro. Chase Rooks); 6:00 p.m. Q&A/video presentations
URL:https://manhattanbaptistchurch.com/event/missions-conference/
END:VEVENT
BEGIN:VEVENT
DTSTART;TZID=America/Chicago:20210925T010000
DTEND;TZID=America/Chicago:20210926T170000
DTSTAMP:20260423T124213
CREATED:20210830T153944Z
LAST-MODIFIED:20210830T153944Z
UID:50844-1632531600-1632675600@manhattanbaptistchurch.com
SUMMARY:Men's Recharge
DESCRIPTION:This years Men’s Recharge will be September 24-25. Cost is $70 per person. Please sign up by September 5.
URL:https://manhattanbaptistchurch.com/event/mens-recharge/
END:VEVENT
BEGIN:VEVENT
DTSTART;VALUE=DATE:20210906
DTEND;VALUE=DATE:20210907
DTSTAMP:20260423T124213
CREATED:20210830T153743Z
LAST-MODIFIED:20210830T154055Z
UID:50841-1630886400-1630972799@manhattanbaptistchurch.com
SUMMARY:Labor Day
DESCRIPTION:From all of us at MBC: enjoy your day with your family and be safe!
URL:https://manhattanbaptistchurch.com/event/labor-day/
END:VEVENT
BEGIN:VEVENT
DTSTART;TZID=America/Chicago:20210904T100000
DTEND;TZID=America/Chicago:20210904T120000
DTSTAMP:20260423T124213
CREATED:20210830T153543Z
LAST-MODIFIED:20210830T154024Z
UID:50838-1630749600-1630756800@manhattanbaptistchurch.com
SUMMARY:Door hangers
DESCRIPTION:We will be going throughout the neighborhood on Saturday September 4 distributing door hangers. For those who wish to be a part please plan on leaving the church at 10:00 a.m.
URL:https://manhattanbaptistchurch.com/event/door-hangers/
END:VEVENT
END:VCALENDAR