BEGIN:VCALENDAR
VERSION:2.0
PRODID:-//Manhattan Baptist Church - ECPv6.15.20//NONSGML v1.0//EN
CALSCALE:GREGORIAN
METHOD:PUBLISH
X-WR-CALNAME:Manhattan Baptist Church
X-ORIGINAL-URL:https://manhattanbaptistchurch.com
X-WR-CALDESC:Events for Manhattan Baptist Church
REFRESH-INTERVAL;VALUE=DURATION:PT1H
X-Robots-Tag:noindex
X-PUBLISHED-TTL:PT1H
BEGIN:VTIMEZONE
TZID:America/Chicago
BEGIN:DAYLIGHT
TZOFFSETFROM:-0600
TZOFFSETTO:-0500
TZNAME:CDT
DTSTART:20200308T080000
END:DAYLIGHT
BEGIN:STANDARD
TZOFFSETFROM:-0500
TZOFFSETTO:-0600
TZNAME:CST
DTSTART:20201101T070000
END:STANDARD
BEGIN:DAYLIGHT
TZOFFSETFROM:-0600
TZOFFSETTO:-0500
TZNAME:CDT
DTSTART:20210314T080000
END:DAYLIGHT
BEGIN:STANDARD
TZOFFSETFROM:-0500
TZOFFSETTO:-0600
TZNAME:CST
DTSTART:20211107T070000
END:STANDARD
BEGIN:DAYLIGHT
TZOFFSETFROM:-0600
TZOFFSETTO:-0500
TZNAME:CDT
DTSTART:20220313T080000
END:DAYLIGHT
BEGIN:STANDARD
TZOFFSETFROM:-0500
TZOFFSETTO:-0600
TZNAME:CST
DTSTART:20221106T070000
END:STANDARD
END:VTIMEZONE
BEGIN:VEVENT
DTSTART;TZID=America/Chicago:20210925T010000
DTEND;TZID=America/Chicago:20210926T170000
DTSTAMP:20260423T140748
CREATED:20210830T153944Z
LAST-MODIFIED:20210830T153944Z
UID:50844-1632531600-1632675600@manhattanbaptistchurch.com
SUMMARY:Men's Recharge
DESCRIPTION:This years Men’s Recharge will be September 24-25. Cost is $70 per person. Please sign up by September 5.
URL:https://manhattanbaptistchurch.com/event/mens-recharge/
END:VEVENT
BEGIN:VEVENT
DTSTART;VALUE=DATE:20210906
DTEND;VALUE=DATE:20210907
DTSTAMP:20260423T140748
CREATED:20210830T153743Z
LAST-MODIFIED:20210830T154055Z
UID:50841-1630886400-1630972799@manhattanbaptistchurch.com
SUMMARY:Labor Day
DESCRIPTION:From all of us at MBC: enjoy your day with your family and be safe!
URL:https://manhattanbaptistchurch.com/event/labor-day/
END:VEVENT
BEGIN:VEVENT
DTSTART;TZID=America/Chicago:20210904T100000
DTEND;TZID=America/Chicago:20210904T120000
DTSTAMP:20260423T140748
CREATED:20210830T153543Z
LAST-MODIFIED:20210830T154024Z
UID:50838-1630749600-1630756800@manhattanbaptistchurch.com
SUMMARY:Door hangers
DESCRIPTION:We will be going throughout the neighborhood on Saturday September 4 distributing door hangers. For those who wish to be a part please plan on leaving the church at 10:00 a.m.
URL:https://manhattanbaptistchurch.com/event/door-hangers/
END:VEVENT
END:VCALENDAR